BEGIN:VCALENDAR
VERSION:2.0
PRODID:-//Baltijos Wing Tsun Kung Fu asociacija - ECPv4.1.1//NONSGML v1.0//EN
CALSCALE:GREGORIAN
METHOD:PUBLISH
X-WR-CALNAME:Baltijos Wing Tsun Kung Fu asociacija
X-ORIGINAL-URL:https://www.wingtsun.lt
X-WR-CALDESC:Events for Baltijos Wing Tsun Kung Fu asociacija
BEGIN:VEVENT
DTSTART;TZID=UTC+0:20180707T090000
DTEND;TZID=UTC+0:20180707T200000
DTSTAMP:20260422T180324
CREATED:20180315T153009
LAST-MODIFIED:20180315T153400
UID:3205-1530954000-1530993600@www.wingtsun.lt
SUMMARY:Veprių vasaros stovykla su Si-Fu Linu Gudonavičiumi. IV diena
DESCRIPTION:\n\nPraėjusių metų vasaros stovykla Vepriuose iki šiol sulaukia vien tik geriausių atsiliepimų.\n\nŠiais metais rezervuokite liepos 4 – 8 dienas intensyvioms treniruotėms ir gerai nuotaikai Veprių vasaros stovykloje 2018!\n\nKetvirtosios dienos treniruočių tvarkaraštis:\n\n09:00 – 12:00 val. - Rytinė treniruotė\n15:00 – 16:00 val. - Egzaminai\n16:00 – 19:00 val. - Vakarinė treniruotė\n19:30 -20:00 val. - Bendra vakarienė\n\n
URL:/wing\-tsun\-kungfu\-kovos\-menas\-renginai/vepriu-vasaros-stovykla-su-si-fu-linu-gudonaviciumi-iv-diena-2/
CATEGORIES:Renginiai
END:VEVENT
END:VCALENDAR