BEGIN:VCALENDAR
VERSION:2.0
PRODID:-//Baltijos Wing Tsun Kung Fu asociacija - ECPv4.1.1//NONSGML v1.0//EN
CALSCALE:GREGORIAN
METHOD:PUBLISH
X-WR-CALNAME:Baltijos Wing Tsun Kung Fu asociacija
X-ORIGINAL-URL:https://www.wingtsun.lt
X-WR-CALDESC:Events for Baltijos Wing Tsun Kung Fu asociacija
BEGIN:VEVENT
DTSTART;TZID=UTC+0:20180706T090000
DTEND;TZID=UTC+0:20180706T190000
DTSTAMP:20260422T154656
CREATED:20180315T152728
LAST-MODIFIED:20180315T153333
UID:3203-1530867600-1530903600@www.wingtsun.lt
SUMMARY:Veprių vasaros stovykla su Si-Fu Linu Gudonavičiumi. III diena
DESCRIPTION:\n\nPraėjusių metų vasaros stovykla Vepriuose iki šiol sulaukia vien tik geriausių atsiliepimų.\n\nŠiais metais rezervuokite liepos 4 – 8 dienas intensyvioms treniruotėms ir gerai nuotaikai Veprių vasaros stovykloje 2018!\n\nTrečiosios dienos treniruočių tvarkaraštis:\n\nRytinė treniruotė 09:00 – 12:00 val.\nVakarinė treniruotė 16:00 – 19:00 val.\n\n
URL:/wing\-tsun\-kungfu\-kovos\-menas\-renginai/vepriu-vasaros-stovykla-su-si-fu-linu-gudonaviciumi-iii-diena-2/
CATEGORIES:Renginiai
END:VEVENT
END:VCALENDAR