BEGIN:VCALENDAR
VERSION:2.0
PRODID:-//Baltijos Wing Tsun Kung Fu asociacija - ECPv4.1.1//NONSGML v1.0//EN
CALSCALE:GREGORIAN
METHOD:PUBLISH
X-WR-CALNAME:Baltijos Wing Tsun Kung Fu asociacija
X-ORIGINAL-URL:https://www.wingtsun.lt
X-WR-CALDESC:Events for Baltijos Wing Tsun Kung Fu asociacija
BEGIN:VEVENT
DTSTART;TZID=UTC+0:20180705T080000
DTEND;TZID=UTC+0:20180705T170000
DTSTAMP:20260422T151007
CREATED:20180315T152337
LAST-MODIFIED:20180315T152337
UID:3200-1530777600-1530810000@www.wingtsun.lt
SUMMARY:Veprių vasaros stovykla su Si-Fu Linu Gudonavičiumi. II diena
DESCRIPTION:\n\nPraėjusių metų vasaros stovykla Vepriuose iki šiol sulaukia vien tik geriausių atsiliepimų.\n\nŠiais metais rezervuokite liepos 4 – 8 dienas intensyvioms treniruotėms ir gerai nuotaikai Veprių vasaros stovykloje 2018!\n\nAntrosios dienos treniruočių tvarkaraštis:\n\nRytinė treniruotė 09:00 – 12:00 val.\nVakarinė treniruotė 16:00 – 19:00 val.\n\n
URL:/wing\-tsun\-kungfu\-kovos\-menas\-renginai/vepriu-vasaros-stovykla-su-si-fu-linu-gudonaviciumi-ii-diena-2/
CATEGORIES:Renginiai
END:VEVENT
END:VCALENDAR