BEGIN:VCALENDAR
VERSION:2.0
PRODID:-//Baltijos Wing Tsun Kung Fu asociacija - ECPv4.1.1//NONSGML v1.0//EN
CALSCALE:GREGORIAN
METHOD:PUBLISH
X-WR-CALNAME:Baltijos Wing Tsun Kung Fu asociacija
X-ORIGINAL-URL:https://www.wingtsun.lt
X-WR-CALDESC:Events for Baltijos Wing Tsun Kung Fu asociacija
BEGIN:VEVENT
DTSTART;TZID=UTC+0:20180704T150000
DTEND;TZID=UTC+0:20180704T180000
DTSTAMP:20260422T133357
CREATED:20180315T152158
LAST-MODIFIED:20180315T152158
UID:3198-1530716400-1530727200@www.wingtsun.lt
SUMMARY:Veprių vasaros stovykla su Si-Fu Linu Gudonavičiumi. I diena
DESCRIPTION:\n\nPraėjusių metų vasaros stovykla Vepriuose iki šiol sulaukia vien tik geriausių atsiliepimų.\n\nŠiais metais rezervuokite liepos 4 - 8  dienas intensyvioms treniruotėms ir gerai nuotaikai Veprių vasaros stovykloje 2018!\n\nPirmosios dienos treniruotė prasideda nuo 15:00 – 18:00 val.\n\n
URL:/wing\-tsun\-kungfu\-kovos\-menas\-renginai/vepriu-vasaros-stovykla-su-si-fu-linu-gudonaviciumi-diena-2/
CATEGORIES:Renginiai
END:VEVENT
END:VCALENDAR