BEGIN:VCALENDAR
VERSION:2.0
PRODID:-//Baltijos Wing Tsun Kung Fu asociacija - ECPv4.1.1//NONSGML v1.0//EN
CALSCALE:GREGORIAN
METHOD:PUBLISH
X-WR-CALNAME:Baltijos Wing Tsun Kung Fu asociacija
X-ORIGINAL-URL:https://www.wingtsun.lt
X-WR-CALDESC:Events for Baltijos Wing Tsun Kung Fu asociacija
BEGIN:VEVENT
DTSTART;TZID=UTC+0:20180608T190000
DTEND;TZID=UTC+0:20180608T220000
DTSTAMP:20260421T220612
CREATED:20180315T151000
LAST-MODIFIED:20180604T120058
UID:3192-1528484400-1528495200@www.wingtsun.lt
SUMMARY:Vasaros stovykla Latvijoje
DESCRIPTION:Šiemet pristatome visiems Wing Tsun bendruomenės nariams vasaros stovyklą Latvijoje\, prie jūros\, Kesterciems miestelyje\, kuri vyks birželio 8 - 10 dienomis.\n\nVasaros stovyklos tema - kojų technika.\n\nPrograma: 19:00 - 22:00 val. - Vakarinė treniruotė
URL:/wing\-tsun\-kungfu\-kovos\-menas\-renginai/vasaros-stovykla-latvijoje/
CATEGORIES:Renginiai
END:VEVENT
END:VCALENDAR