BEGIN:VCALENDAR
VERSION:2.0
PRODID:-//Baltijos Wing Tsun Kung Fu asociacija - ECPv4.1.1//NONSGML v1.0//EN
CALSCALE:GREGORIAN
METHOD:PUBLISH
X-WR-CALNAME:Baltijos Wing Tsun Kung Fu asociacija
X-ORIGINAL-URL:https://www.wingtsun.lt
X-WR-CALDESC:Events for Baltijos Wing Tsun Kung Fu asociacija
BEGIN:VEVENT
DTSTART;TZID=UTC+0:20180610T100000
DTEND;TZID=UTC+0:20180610T150000
DTSTAMP:20260422T010015
CREATED:20180315T151414
LAST-MODIFIED:20180604T112815
UID:3196-1528624800-1528642800@www.wingtsun.lt
SUMMARY:Vasaros stovykla Latvijoje
DESCRIPTION:\n\nŠiemet pristatome visiems Wing Tsun bendruomenės nariams vasaros stovyklą Latvijoje\, prie jūros\, kuri vyks birželio 8 – 10 dienomis.\n\nVasaros stovyklos tema – kojų technika.\n\n \n\nPrograma: \n\n09:00 – 12:00 val. – Rytinė treniruotė + Egzaminai\n\n \n\n
URL:/wing\-tsun\-kungfu\-kovos\-menas\-renginai/vasaros-stovykla-latvijoje-3/
CATEGORIES:Renginiai
END:VEVENT
END:VCALENDAR