BEGIN:VCALENDAR
VERSION:2.0
PRODID:-//Baltijos Wing Tsun Kung Fu asociacija - ECPv4.1.1//NONSGML v1.0//EN
CALSCALE:GREGORIAN
METHOD:PUBLISH
X-WR-CALNAME:Baltijos Wing Tsun Kung Fu asociacija
X-ORIGINAL-URL:https://www.wingtsun.lt
X-WR-CALDESC:Events for Baltijos Wing Tsun Kung Fu asociacija
BEGIN:VEVENT
DTSTART;TZID=UTC+0:20180628T183000
DTEND;TZID=UTC+0:20180628T200000
DTSTAMP:20260422T103825
CREATED:20180606T132011
LAST-MODIFIED:20180606T132011
UID:3344-1530210600-1530216000@www.wingtsun.lt
SUMMARY:Treniruotė su Si-Fu Linu Gudonavičiumi Klaipėdos Centro klube
DESCRIPTION:\n\n\n\n\n\nTreniruotė su Si-Fu Linu Gudonavičiumi Klaipėdos Centro klube.\n\nNepraleiskite progos pasimokyti iš aukščiausio lygio meistro Lietuvoje!\n\nMes jau laukiame jūsų!\n\n\n\n\n\n
URL:/wing\-tsun\-kungfu\-kovos\-menas\-renginai/treniruote-su-si-fu-linu-gudonaviciumi-klaipedos-centro-klube-16/
LOCATION:Danės g. 29\, Klaipėda. Darželio "Boružėlė" sporto salė.
CATEGORIES:Renginiai
END:VEVENT
END:VCALENDAR