BEGIN:VCALENDAR
VERSION:2.0
PRODID:-//Baltijos Wing Tsun Kung Fu asociacija - ECPv4.1.1//NONSGML v1.0//EN
CALSCALE:GREGORIAN
METHOD:PUBLISH
X-WR-CALNAME:Baltijos Wing Tsun Kung Fu asociacija
X-ORIGINAL-URL:https://www.wingtsun.lt
X-WR-CALDESC:Events for Baltijos Wing Tsun Kung Fu asociacija
BEGIN:VEVENT
DTSTART;TZID=UTC+0:20180521T180000
DTEND;TZID=UTC+0:20180521T193000
DTSTAMP:20260421T165235
CREATED:20180424T150621
LAST-MODIFIED:20180424T150621
UID:3290-1526925600-1526931000@www.wingtsun.lt
SUMMARY:Treniruotė su Si-Fu Linu Gudonavičiumi Kauno Centro klube
DESCRIPTION:Treniruotė su Si-Fu Linu Gudonavičiumi Kauno Centro klube. Nepraleiskite progos pasimokyti iš aukščiausio lygio meistro Lietuvoje!
URL:/wing\-tsun\-kungfu\-kovos\-menas\-renginai/treniruote-su-si-fu-linu-gudonaviciumi-kauno-centro-klube-28/
LOCATION:Karaliaus Mindaugo pr. 11\, Kaunas
CATEGORIES:Renginiai
END:VEVENT
END:VCALENDAR