BEGIN:VCALENDAR
VERSION:2.0
PRODID:-//Baltijos Wing Tsun Kung Fu asociacija - ECPv4.1.1//NONSGML v1.0//EN
CALSCALE:GREGORIAN
METHOD:PUBLISH
X-WR-CALNAME:Baltijos Wing Tsun Kung Fu asociacija
X-ORIGINAL-URL:https://www.wingtsun.lt
X-WR-CALDESC:Events for Baltijos Wing Tsun Kung Fu asociacija
BEGIN:VEVENT
DTSTART;TZID=UTC+0:20181215T100000
DTEND;TZID=UTC+0:20181215T210000
DTSTAMP:20260425T001243
CREATED:20181108T153003
LAST-MODIFIED:20181108T153003
UID:3589-1544868000-1544907600@www.wingtsun.lt
SUMMARY:ŠVENTINIAI INSTRUKTORIŲ IR MOKINIŲ KURSAI BEI PADĖKOS VAKARIENĖ
DESCRIPTION:Baigiantis metams\, tradiciškai kviečiame visus kartu praleisti laiką Wing Tsun KungFu instruktorių ir mokinių užsiėmimuose\, o po jų kartu sudalyvauti padėkos vakarienėje!\n\nGruodžio 15 dieną 10:00-15:00 valandomis vyks šventiniai instruktorių ir mokinių kursai\, į kuriuos yra kviečiami visų klubų nariai.\n\nIškart po jų – 18 valandą kviečiame visus susėsti prie bendro stalo ir drauge su BWTA nariais prisiminti dar vienus itin sėkmingus bendruomenės metus! Vakarienės metu ne tik aptarsime įsimintiniausius Wing Tsun 2018-ųjų metų įvykius\, bet ir pramogausime bei aptarsime 2019-ųjų metų planus ir tikslus.
URL:/wing\-tsun\-kungfu\-kovos\-menas\-renginai/sventiniai-instruktoriu-ir-mokiniu-kursai-bei-padekos-vakariene/
CATEGORIES:Renginiai
END:VEVENT
END:VCALENDAR