BEGIN:VCALENDAR
VERSION:2.0
PRODID:-//Baltijos Wing Tsun Kung Fu asociacija - ECPv4.1.1//NONSGML v1.0//EN
CALSCALE:GREGORIAN
METHOD:PUBLISH
X-WR-CALNAME:Baltijos Wing Tsun Kung Fu asociacija
X-ORIGINAL-URL:https://www.wingtsun.lt
X-WR-CALDESC:Events for Baltijos Wing Tsun Kung Fu asociacija
BEGIN:VEVENT
DTSTART;TZID=UTC+0:20181121T190000
DTEND;TZID=UTC+0:20181121T210000
DTSTAMP:20260424T170015
CREATED:20181025T144416
LAST-MODIFIED:20181026T151148
UID:3574-1542826800-1542834000@www.wingtsun.lt
SUMMARY:Specialusis Si-Kung Maday Norbert instruktorių seminaras Kaune
DESCRIPTION:Specialusis Si-Kung Maday Norbert instruktorių seminaras Kaune! Nepraleiskite progos mokytis iš aukščiausio lygio meistro Rytų Europoje\, laikyti egzaminą ir gauti sertifikatą\, galiojantį visame pasaulyje.\n\nSeminaras instruktoriams vyks lapkričio 21 - 24 dienomis.\n\nLauksime Jūsų!\n\nLapkričio 21 dienos programa:\n19:00 – 21:00 val. – Instruktorių seminaras Kaune.\n\nAdresas: Aukštaičių g.78\, Kauno Gedimino Sporto ir sveikatinimo gimnazija\, aktų salė. \n\n
URL:/wing\-tsun\-kungfu\-kovos\-menas\-renginai/specialusis-si-kung-maday-norbert-instruktoriu-seminaras-kaune/
LOCATION:Aukštaičių g.78\, Kaunas\, Lietuva
CATEGORIES:Renginiai
END:VEVENT
END:VCALENDAR