BEGIN:VCALENDAR
VERSION:2.0
PRODID:-//Baltijos Wing Tsun Kung Fu asociacija - ECPv4.1.1//NONSGML v1.0//EN
CALSCALE:GREGORIAN
METHOD:PUBLISH
X-WR-CALNAME:Baltijos Wing Tsun Kung Fu asociacija
X-ORIGINAL-URL:https://www.wingtsun.lt
X-WR-CALDESC:Events for Baltijos Wing Tsun Kung Fu asociacija
BEGIN:VEVENT
DTSTART;TZID=UTC+0:20180721T100000
DTEND;TZID=UTC+0:20180721T160000
DTSTAMP:20260423T160018
CREATED:20180315T155229
LAST-MODIFIED:20180625T150710
UID:3217-1532167200-1532188800@www.wingtsun.lt
SUMMARY:Si-Kung Norbert Maday Vasaros stovykla. V diena
DESCRIPTION:\n\nPraėjusių metų Si-Kung Norbert Maday vasaros stovykla sulaukia tik geriausių atsiliepimų!\n\nAktyvios treniruotės\, bendros išvykos ir tradicinė vakarienė – visa tai ir dar daugiau laukia Jūsų šių metų vasaros stovykloje!\n\nPROGRAMA:\n\n\nLiepos 21 diena (šeštadienis). \n(Vieta - Kauno Jono Jablonskio gimnazija\, Aušros g. 3\, sporto salė)\n \n10:00 - 12:00 val. - Rytinė WT treniruotė\n14:00 - 16:00 val. - Popietinė WT treniruotė + Egzaminai\n
URL:/wing\-tsun\-kungfu\-kovos\-menas\-renginai/si-kung-norbert-maday-vasaros-stovykla-v-diena-2/
LOCATION:Aušros g. 3\, Kaunas
CATEGORIES:Renginiai
END:VEVENT
END:VCALENDAR