BEGIN:VCALENDAR
VERSION:2.0
PRODID:-//Baltijos Wing Tsun Kung Fu asociacija - ECPv4.1.1//NONSGML v1.0//EN
CALSCALE:GREGORIAN
METHOD:PUBLISH
X-WR-CALNAME:Baltijos Wing Tsun Kung Fu asociacija
X-ORIGINAL-URL:https://www.wingtsun.lt
X-WR-CALDESC:Events for Baltijos Wing Tsun Kung Fu asociacija
BEGIN:VEVENT
DTSTART;TZID=UTC+0:20180720T100000
DTEND;TZID=UTC+0:20180720T210000
DTSTAMP:20260423T142806
CREATED:20180315T155057
LAST-MODIFIED:20180625T150527
UID:3215-1532080800-1532120400@www.wingtsun.lt
SUMMARY:Si-Kung Norbert Maday vasaros stovykla Kaune. IV diena
DESCRIPTION:\n\nPraėjusių metų Si-Kung Norbert Maday vasaros stovykla sulaukia tik geriausių atsiliepimų!\n\nAktyvios treniruotės\, bendros išvykos ir tradicinė vakarienė – visa tai ir dar daugiau laukia Jūsų šių metų vasaros stovykloje!\n\nPROGRAMA:\n\n\nLiepos 20 diena (penktadienis). \n(Vieta - Kauno Jono Jablonskio gimnazija\, Aušros g. 3\, sporto salė)\n \n10:00 - 12:00 val. - Rytinė WT treniruotė\n17:00 - 19:00 val. - Vakarinė WT treniruotė\n20:30 val. - Bendra vakarienė (vieta bus patikslinta šiek tiek vėliau).\nNepraleisk progos mokytis iš geriausių!\n\n
URL:/wing\-tsun\-kungfu\-kovos\-menas\-renginai/si-kung-norbert-maday-vasaros-stovykla-kaune-iv-diena-3/
LOCATION:Aušros g. 3\, Kaunas
CATEGORIES:Renginiai
END:VEVENT
END:VCALENDAR