BEGIN:VCALENDAR
VERSION:2.0
PRODID:-//Baltijos Wing Tsun Kung Fu asociacija - ECPv4.1.1//NONSGML v1.0//EN
CALSCALE:GREGORIAN
METHOD:PUBLISH
X-WR-CALNAME:Baltijos Wing Tsun Kung Fu asociacija
X-ORIGINAL-URL:https://www.wingtsun.lt
X-WR-CALDESC:Events for Baltijos Wing Tsun Kung Fu asociacija
BEGIN:VEVENT
DTSTART;TZID=UTC+0:20180719T100000
DTEND;TZID=UTC+0:20180719T193000
DTSTAMP:20260423T032538
CREATED:20180315T154912
LAST-MODIFIED:20180625T150101
UID:3213-1531994400-1532028600@www.wingtsun.lt
SUMMARY:Si-Kung Norbert Maday vasaros stovykla Kaune. III diena
DESCRIPTION:\n\nPraėjusių metų Si-Kung Norbert Maday vasaros stovykla sulaukia tik geriausių atsiliepimų!\n\nAktyvios treniruotės\, bendros išvykos ir tradicinė vakarienė – visa tai ir dar daugiau laukia Jūsų šių metų vasaros stovykloje!\n\nPROGRAMA:\n\n\nLiepos 19 diena (ketvirtadienis).\n\n \n(Vieta - Kauno Karininkų Ramovė\, A. Mickevičiaus g. 19\, didžioji salė)\n \n 10:00 - 12:00 val.- Rytinė WT treniruotė\n17:30 - 19:30 val. - Vakarinė WT treniruotė\n\n\n\n\nNepraleisk progos mokytis iš geriausių!\n\n
URL:/wing\-tsun\-kungfu\-kovos\-menas\-renginai/si-kung-norbert-maday-vasaros-stovykla-kaune-iii-diena-3/
LOCATION:A. Mickevičiaus g. 19\, Kaunas
CATEGORIES:Renginiai
END:VEVENT
END:VCALENDAR