BEGIN:VCALENDAR
VERSION:2.0
PRODID:-//Baltijos Wing Tsun Kung Fu asociacija - ECPv4.1.1//NONSGML v1.0//EN
CALSCALE:GREGORIAN
METHOD:PUBLISH
X-WR-CALNAME:Baltijos Wing Tsun Kung Fu asociacija
X-ORIGINAL-URL:https://www.wingtsun.lt
X-WR-CALDESC:Events for Baltijos Wing Tsun Kung Fu asociacija
BEGIN:VEVENT
DTSTART;TZID=UTC+0:20181028T080000
DTEND;TZID=UTC+0:20181028T170000
DTSTAMP:20260424T123450
CREATED:20180928T081841
LAST-MODIFIED:20180928T081841
UID:3541-1540713600-1540746000@www.wingtsun.lt
SUMMARY:Si-Jo Leung Ting seminaras Budapešte\, Vengrijoje
DESCRIPTION:Si-Jo Leung Ting seminaras Budapešte\, Vengrijoje.
URL:/wing\-tsun\-kungfu\-kovos\-menas\-renginai/si-jo-leung-ting-seminaras-budapeste-vengrijoje-2/
CATEGORIES:Renginiai
END:VEVENT
END:VCALENDAR