BEGIN:VCALENDAR
VERSION:2.0
PRODID:-//Baltijos Wing Tsun Kung Fu asociacija - ECPv4.1.1//NONSGML v1.0//EN
CALSCALE:GREGORIAN
METHOD:PUBLISH
X-WR-CALNAME:Baltijos Wing Tsun Kung Fu asociacija
X-ORIGINAL-URL:https://www.wingtsun.lt
X-WR-CALDESC:Events for Baltijos Wing Tsun Kung Fu asociacija
BEGIN:VEVENT
DTSTART;TZID=UTC+0:20180513T100000
DTEND;TZID=UTC+0:20180513T150000
DTSTAMP:20260421T091958
CREATED:20180305T125026
LAST-MODIFIED:20180424T142913
UID:3166-1526205600-1526223600@www.wingtsun.lt
SUMMARY:Instruktorių kursai Kaune su Si-Fu Linu Gudonavičiumi
DESCRIPTION:\n\n\n\n\nIntensyvūs instruktorių kursai kaskart pritraukia vis daugiau norinčių dalyvauti ir mokytis iš geriausių. Gegužės 13 dieną Kauno centro sporto klube vyks intensyvūs instruktorių kursai\, kurių metu galėsite ne tik patikrinti savo žinias bei gebėjimus\, bet ir įgyti naujų įgūdžių.\n\nKviečiami mokiniai bei instruktoriai!\n\nKursai vyks Kauno Karininkų Ramovėje adresu Mickevičiaus g. 19\, Požemyje\, Krepšinio salėje.\n\n\n\n\n
URL:/wing\-tsun\-kungfu\-kovos\-menas\-renginai/instruktoriu-kursai-kaune-su-si-fu-linu-gudonaviciumi-23/
LOCATION:A. Mickevičiaus g. 19\, Kaunas
CATEGORIES:Renginiai
END:VEVENT
END:VCALENDAR