BEGIN:VCALENDAR
VERSION:2.0
PRODID:-//Baltijos Wing Tsun Kung Fu asociacija - ECPv4.1.1//NONSGML v1.0//EN
CALSCALE:GREGORIAN
METHOD:PUBLISH
X-WR-CALNAME:Baltijos Wing Tsun Kung Fu asociacija
X-ORIGINAL-URL:https://www.wingtsun.lt
X-WR-CALDESC:Events for Baltijos Wing Tsun Kung Fu asociacija
BEGIN:VEVENT
DTSTART;TZID=UTC+0:20190112T100000
DTEND;TZID=UTC+0:20190112T150000
DTSTAMP:20260425T033505
CREATED:20181231T143009
LAST-MODIFIED:20190108T082210
UID:3668-1547287200-1547305200@www.wingtsun.lt
SUMMARY:INSTRUKTORIŲ IR MOKINIŲ KURSAI KAUNE SU SI-FU LINU GUDONAVIČIUMI
DESCRIPTION:Instruktorių ir mokinių kursai Kaune su Si-Fu Linu Gudonavičiumi.
URL:/wing\-tsun\-kungfu\-kovos\-menas\-renginai/instruktoriu-ir-mokiniu-kursai-kaune-su-si-fu-linu-gudonaviciumi-4/
LOCATION:A. Mickevičiaus g. 19\, Kaunas
CATEGORIES:Renginiai
END:VEVENT
END:VCALENDAR