BEGIN:VCALENDAR
VERSION:2.0
PRODID:-//Baltijos Wing Tsun Kung Fu asociacija - ECPv4.1.1//NONSGML v1.0//EN
CALSCALE:GREGORIAN
METHOD:PUBLISH
X-WR-CALNAME:Baltijos Wing Tsun Kung Fu asociacija
X-ORIGINAL-URL:https://www.wingtsun.lt
X-WR-CALDESC:Events for Baltijos Wing Tsun Kung Fu asociacija
BEGIN:VEVENT
DTSTART;TZID=UTC+0:20181007T100000
DTEND;TZID=UTC+0:20181007T150000
DTSTAMP:20260424T092400
CREATED:20180928T080854
LAST-MODIFIED:20181025T143141
UID:3536-1538906400-1538924400@www.wingtsun.lt
SUMMARY:Instruktorių ir mokinių kursai Kaune su Si-Fu Linu Gudonavičiumi
DESCRIPTION:Jau tradiciškai tapę instruktorių ir mokinių kursai Kaune su Si-Fu Linu Gudonavičiumi.
URL:/wing\-tsun\-kungfu\-kovos\-menas\-renginai/instruktoriu-ir-mokiniu-kursai-kaune-su-si-fu-linu-gudonaviciumi-2/
LOCATION:A. Mickevičiaus g. 19\, Kaunas
CATEGORIES:Renginiai
END:VEVENT
END:VCALENDAR