BEGIN:VCALENDAR
VERSION:2.0
PRODID:-//Baltijos Wing Tsun Kung Fu asociacija - ECPv4.1.1//NONSGML v1.0//EN
CALSCALE:GREGORIAN
METHOD:PUBLISH
X-WR-CALNAME:Baltijos Wing Tsun Kung Fu asociacija
X-ORIGINAL-URL:https://www.wingtsun.lt
X-WR-CALDESC:Events for Baltijos Wing Tsun Kung Fu asociacija
BEGIN:VEVENT
DTSTART;TZID=UTC+0:20180619T203000
DTEND;TZID=UTC+0:20180619T210000
DTSTAMP:20260422T085237
CREATED:20180606T130429
LAST-MODIFIED:20180606T130429
UID:3336-1529440200-1529442000@www.wingtsun.lt
SUMMARY:Arbatos gėrimo ceremonija Vilniaus Centro klube
DESCRIPTION:\n\n\n\n\n\n\nTradicinė arbatos gėrimo ceremonija\, kurios metu visa Wing Tsun KungFu šeima kviečiama pabūti kartu!\n\nArbatos gėrimo ceremonija vyks Vilniaus centro klube.\n\n\n\n\n\n\n
URL:/wing\-tsun\-kungfu\-kovos\-menas\-renginai/arbatos-gerimo-ceremonija-vilniaus-centro-klube-11/
LOCATION:Studentų g. 39\, Lietuvos Edukologijos Universitetas (VPU).\, Vilnius
CATEGORIES:Renginiai
END:VEVENT
END:VCALENDAR