BEGIN:VCALENDAR
VERSION:2.0
PRODID:-//Baltijos Wing Tsun Kung Fu asociacija - ECPv4.1.1//NONSGML v1.0//EN
CALSCALE:GREGORIAN
METHOD:PUBLISH
X-WR-CALNAME:Baltijos Wing Tsun Kung Fu asociacija
X-ORIGINAL-URL:https://www.wingtsun.lt
X-WR-CALDESC:Events for Baltijos Wing Tsun Kung Fu asociacija
BEGIN:VEVENT
DTSTART;TZID=UTC+0:20190108T190000
DTEND;TZID=UTC+0:20190108T193000
DTSTAMP:20260425T014725
CREATED:20190108T125730
LAST-MODIFIED:20190108T125730
UID:3755-1546974000-1546975800@www.wingtsun.lt
SUMMARY:Arbatos gėrimo ceremonija Šilainių Centro klube
DESCRIPTION:Tradicinė arbatos gėrimo ceremonija Šilainių Centro klube su visais Wing Tsun KungFu nariais.
URL:/wing\-tsun\-kungfu\-kovos\-menas\-renginai/arbatos-gerimo-ceremonija-silainiu-centro-klube/
LOCATION:Baltų pr. 51\, Kaunas. Santaros gimnazija\, mažoji sporto salė Nr. 243\, 2a.
CATEGORIES:Renginiai
END:VEVENT
END:VCALENDAR